BEGIN:VCALENDAR
PRODID:-//AT Content Types//AT Event//EN
VERSION:2.0
METHOD:PUBLISH
BEGIN:VEVENT
DTSTAMP:20260425T151001Z
CREATED:20170602T153701Z
UID:ATEvent-86cfdb2ef98f4306a706a63e66af37c9
LAST-MODIFIED:20170712T134356Z
SUMMARY:Global Seeds of Peace Sprouting: A Report from Inside the June 2017 Nuclear Weapons Ban Treaty Negotiations at the UN\, New York
DTSTART:20170720T213000Z
DTEND:20170721T000000Z
CLASS:PUBLIC
END:VEVENT
END:VCALENDAR
