BEGIN:VCALENDAR
PRODID:-//AT Content Types//AT Event//EN
VERSION:1.0
BEGIN:VEVENT
DTSTART:20260220T170000Z
DTEND:20260220T190000Z
DCREATED:20230115T233819Z
UID:ATEvent-455cea5214964bacb9fc1e39f643ed7e
SEQUENCE:0
LAST-MODIFIED:20260202T213916Z
SUMMARY:February Monthly Meeting
LOCATION:First Congregational United Church of Christ
PRIORITY:3
TRANSP:0
END:VEVENT
END:VCALENDAR
